BEGIN:VCALENDAR
VERSION:2.0
PRODID:-//Tukios.com/
BEGIN:VEVENT
UID:24f6ce9a-3e5f-42b1-b331-1c6a06f04b1c@www.appalachianfuneralservices.com
DTSTAMP:20260420T033425Z
DTSTART:20260424T170000Z
DTEND:20260424T190000Z
SUMMARY:Visitation
DESCRIPTION:
URL:https://www.appalachianfuneralservices.com/obituaries/charles-wilkes
LOCATION:Appalachian Funeral Services 165 Skyland Drive  Sylva NC 28779
GEO:35.3799668;-83.2143759
END:VEVENT
END:VCALENDAR