BEGIN:VCALENDAR
VERSION:2.0
PRODID:-//Tukios.com/
BEGIN:VEVENT
UID:218cdfed-b604-4dda-99d0-7406414b12b3@www.appalachianfuneralservices.com
DTSTAMP:20260420T034144Z
DTSTART:20260424T190000Z
DTEND:20260424T200000Z
SUMMARY:Funeral Service
DESCRIPTION:
URL:https://www.appalachianfuneralservices.com/obituaries/charles-wilkes
LOCATION:Appalachian Funeral Services 165 Skyland Drive  Sylva NC 28779
GEO:35.3799668;-83.2143759
END:VEVENT
END:VCALENDAR