BEGIN:VCALENDAR
VERSION:2.0
PRODID:-//Tukios.com/
BEGIN:VEVENT
UID:3219cf41-8def-456c-8259-62a0584d7dee@www.appalachianfuneralservices.com
DTSTAMP:20260421T210340Z
DTSTART:20260423T140000Z
DTEND:20260423T160000Z
SUMMARY:Visitation
DESCRIPTION:
URL:https://www.appalachianfuneralservices.com/obituaries/velda-summers
LOCATION: 165 Skyland Drive  Sylva NC 28779
GEO:35.3799668;-83.2143759
END:VEVENT
END:VCALENDAR