BEGIN:VCALENDAR
VERSION:2.0
PRODID:-//Tukios.com/
BEGIN:VEVENT
UID:9fe0994a-ee0d-427b-8881-e6e15a03629d@www.appalachianfuneralservices.com
DTSTAMP:20260421T205909Z
DTSTART:20260423T160000Z
DTEND:20260423T170000Z
SUMMARY:Graveside Service
DESCRIPTION:
URL:https://www.appalachianfuneralservices.com/obituaries/velda-summers
LOCATION:Carl Frizzell Family Cemetery 109 Gribble Gap Road  Sylva NC 
	28779
GEO:35.3093289;-83.2130507
END:VEVENT
END:VCALENDAR